BEGIN:VCALENDAR
VERSION:2.0
PRODID:-//re:Members - ECPv6.15.20//NONSGML v1.0//EN
CALSCALE:GREGORIAN
METHOD:PUBLISH
X-WR-CALNAME:re:Members
X-ORIGINAL-URL:https://www.remembers.com
X-WR-CALDESC:Events for re:Members
REFRESH-INTERVAL;VALUE=DURATION:PT1H
X-Robots-Tag:noindex
X-PUBLISHED-TTL:PT1H
BEGIN:VTIMEZONE
TZID:America/Detroit
BEGIN:DAYLIGHT
TZOFFSETFROM:-0500
TZOFFSETTO:-0400
TZNAME:EDT
DTSTART:20240310T070000
END:DAYLIGHT
BEGIN:STANDARD
TZOFFSETFROM:-0400
TZOFFSETTO:-0500
TZNAME:EST
DTSTART:20241103T060000
END:STANDARD
BEGIN:DAYLIGHT
TZOFFSETFROM:-0500
TZOFFSETTO:-0400
TZNAME:EDT
DTSTART:20250309T070000
END:DAYLIGHT
BEGIN:STANDARD
TZOFFSETFROM:-0400
TZOFFSETTO:-0500
TZNAME:EST
DTSTART:20251102T060000
END:STANDARD
BEGIN:DAYLIGHT
TZOFFSETFROM:-0500
TZOFFSETTO:-0400
TZNAME:EDT
DTSTART:20260308T070000
END:DAYLIGHT
BEGIN:STANDARD
TZOFFSETFROM:-0400
TZOFFSETTO:-0500
TZNAME:EST
DTSTART:20261101T060000
END:STANDARD
END:VTIMEZONE
BEGIN:VEVENT
DTSTART;TZID=America/Detroit:20251209T093000
DTEND;TZID=America/Detroit:20251209T163000
DTSTAMP:20260420T104122
CREATED:20251111T165616Z
LAST-MODIFIED:20251111T165618Z
UID:10000055-1765272600-1765297800@www.remembers.com
SUMMARY:AWTC Advance DC 2025
DESCRIPTION:Join AWTC for AWTC Advance DC! \n\n\n\nAWTC advance\, recognize\, and empower women. Join them on December 9 for AWTC Advance\, a full-day conference designed to help you build the skills\, experiences\, and network to take yourself—and your career—to the next level. \n\n\n\nSpace is limited!
URL:https://www.remembers.com/event/awtc-advance-dc-2025/
CATEGORIES:Association Industry Events
END:VEVENT
END:VCALENDAR